BEGIN:VCALENDAR
VERSION:2.0
PRODID:-//Apothekergarten Wiesbaden - ECPv6.15.20//NONSGML v1.0//EN
CALSCALE:GREGORIAN
METHOD:PUBLISH
X-ORIGINAL-URL:https://www.apothekergarten-wiesbaden.de
X-WR-CALDESC:Veranstaltungen für Apothekergarten Wiesbaden
REFRESH-INTERVAL;VALUE=DURATION:PT1H
X-Robots-Tag:noindex
X-PUBLISHED-TTL:PT1H
BEGIN:VTIMEZONE
TZID:Europe/Berlin
BEGIN:DAYLIGHT
TZOFFSETFROM:+0100
TZOFFSETTO:+0200
TZNAME:CEST
DTSTART:20230326T010000
END:DAYLIGHT
BEGIN:STANDARD
TZOFFSETFROM:+0200
TZOFFSETTO:+0100
TZNAME:CET
DTSTART:20231029T010000
END:STANDARD
BEGIN:DAYLIGHT
TZOFFSETFROM:+0100
TZOFFSETTO:+0200
TZNAME:CEST
DTSTART:20240331T010000
END:DAYLIGHT
BEGIN:STANDARD
TZOFFSETFROM:+0200
TZOFFSETTO:+0100
TZNAME:CET
DTSTART:20241027T010000
END:STANDARD
BEGIN:DAYLIGHT
TZOFFSETFROM:+0100
TZOFFSETTO:+0200
TZNAME:CEST
DTSTART:20250330T010000
END:DAYLIGHT
BEGIN:STANDARD
TZOFFSETFROM:+0200
TZOFFSETTO:+0100
TZNAME:CET
DTSTART:20251026T010000
END:STANDARD
END:VTIMEZONE
BEGIN:VEVENT
DTSTART;TZID=Europe/Berlin:20240602T110000
DTEND;TZID=Europe/Berlin:20240602T120000
DTSTAMP:20260422T045849
CREATED:20240411T091858Z
LAST-MODIFIED:20240422T130438Z
UID:828-1717326000-1717329600@www.apothekergarten-wiesbaden.de
SUMMARY:Sonntagsführung „Von wegen\, dagegen ist kein Kraut gewachsen“
DESCRIPTION:Die Apothekerin Neeb-Kippert führt durch den Apothekergarten mit dem Thema „Von wegen\, dagegen ist kein Kraut gewachsen“. Treffpunkt oberer Eingang. Auch jeden Samstag verschiedene Themenführungen. Die Führungen sind ehrenamtlich und daher kostenlos\, können im Falle von Krankheit ersatzlos ausfallen.
URL:https://www.apothekergarten-wiesbaden.de/termin/fuehrung-von-wegen-dagegen-ist-kein-kraut-gewachsen/
LOCATION:Apothekergarten Wiesbaden\, Aukammallee 39\, Wiesbaden\, 65191\, Deutschland
CATEGORIES:Führung
END:VEVENT
BEGIN:VEVENT
DTSTART;TZID=Europe/Berlin:20240608T150000
DTEND;TZID=Europe/Berlin:20240608T150000
DTSTAMP:20260422T045849
CREATED:20240411T092022Z
LAST-MODIFIED:20240411T092022Z
UID:830-1717858800-1717858800@www.apothekergarten-wiesbaden.de
SUMMARY:Führung „Duftpflanzen – nicht nur ein Fest für die Sinne“
DESCRIPTION:Die Apothekerin Hillert führt durch den Apothekergarten mit dem Thema „Duftpflanzen – nicht nur ein Fest für\ndie Sinne“. Treffpunkt oberer Eingang. Jeden Samstag verschiedene Themenführungen. Die Führungen sind ehrenamtlich und daher kostenlos\, können im Falle von Krankheit ersatzlos ausfallen.
URL:https://www.apothekergarten-wiesbaden.de/termin/fuehrung-von-wegen-dagegen-ist-kein-kraut-gewachsen-2/
LOCATION:Apothekergarten Wiesbaden\, Aukammallee 39\, Wiesbaden\, 65191\, Deutschland
CATEGORIES:Führung
END:VEVENT
BEGIN:VEVENT
DTSTART;TZID=Europe/Berlin:20240615T150000
DTEND;TZID=Europe/Berlin:20240615T150000
DTSTAMP:20260422T045849
CREATED:20240411T092134Z
LAST-MODIFIED:20240411T092253Z
UID:832-1718463600-1718463600@www.apothekergarten-wiesbaden.de
SUMMARY:Führung „Die Intelligenz der Pflanzen“
DESCRIPTION:Der Apotheker Dr. Binde führt durch den Apothekergarten mit dem Thema „Die Intelligenz der Pflanzen“. Treffpunkt oberer Eingang. Jeden Samstag verschiedene Themenführungen. Die Führungen sind ehrenamtlich und daher kostenlos\, können im Falle von Krankheit ersatzlos ausfallen.
URL:https://www.apothekergarten-wiesbaden.de/termin/fuehrung-die-intelligenz-der-pflanzen/
LOCATION:Apothekergarten Wiesbaden\, Aukammallee 39\, Wiesbaden\, 65191\, Deutschland
CATEGORIES:Führung
END:VEVENT
BEGIN:VEVENT
DTSTART;TZID=Europe/Berlin:20240622T150000
DTEND;TZID=Europe/Berlin:20240622T150000
DTSTAMP:20260422T045849
CREATED:20240411T092228Z
LAST-MODIFIED:20240411T092239Z
UID:834-1719068400-1719068400@www.apothekergarten-wiesbaden.de
SUMMARY:Führung „Führung mit etwas Ökologie“
DESCRIPTION:Der Apotheker Dr. Dörr führt durch den Apothekergarten mit dem Thema „Führung mit etwas Ökologie“. Treffpunkt oberer Eingang. Jeden Samstag verschiedene Themenführungen. Die Führungen sind ehrenamtlich und daher kostenlos\, können im Falle von Krankheit ersatzlos ausfallen.
URL:https://www.apothekergarten-wiesbaden.de/termin/fuehrung-fuehrung-mit-etwas-oekologie/
LOCATION:Apothekergarten Wiesbaden\, Aukammallee 39\, Wiesbaden\, 65191\, Deutschland
CATEGORIES:Führung
END:VEVENT
BEGIN:VEVENT
DTSTART;TZID=Europe/Berlin:20240629T150000
DTEND;TZID=Europe/Berlin:20240629T150000
DTSTAMP:20260422T045849
CREATED:20240411T092346Z
LAST-MODIFIED:20240411T092417Z
UID:836-1719673200-1719673200@www.apothekergarten-wiesbaden.de
SUMMARY:Führung „Aktuelles zum Tage“
DESCRIPTION:Der Apotheker Dr. Herrmann führt durch den Apothekergarten mit dem Thema „Aktuelles zum Tage“. Treffpunkt oberer Eingang. Jeden Samstag verschiedene Themenführungen. Die Führungen sind ehrenamtlich und daher kostenlos\, können im Falle von Krankheit ersatzlos ausfallen.
URL:https://www.apothekergarten-wiesbaden.de/termin/fuehrung-aktuelles-zum-tage/
LOCATION:Apothekergarten Wiesbaden\, Aukammallee 39\, Wiesbaden\, 65191\, Deutschland
CATEGORIES:Führung
END:VEVENT
BEGIN:VEVENT
DTSTART;TZID=Europe/Berlin:20240630T110000
DTEND;TZID=Europe/Berlin:20240630T120000
DTSTAMP:20260422T045849
CREATED:20240411T092505Z
LAST-MODIFIED:20240422T130446Z
UID:839-1719745200-1719748800@www.apothekergarten-wiesbaden.de
SUMMARY:Sonntagsführung „Blasenentzündung\, natürlich vorbeugen und behandeln“
DESCRIPTION:Die Apothekerin Neeb-Kippert führt durch den Apothekergarten mit dem Thema „Blasenentzündung\, natürlich vorbeugen und behandeln“. Treffpunkt oberer Eingang. Auch jeden Samstag verschiedene Themenführungen. Die Führungen sind ehrenamtlich und daher kostenlos\, können im Falle von Krankheit ersatzlos ausfallen.
URL:https://www.apothekergarten-wiesbaden.de/termin/fuehrung-von-wegen-dagegen-ist-kein-kraut-gewachsen-3/
LOCATION:Apothekergarten Wiesbaden\, Aukammallee 39\, Wiesbaden\, 65191\, Deutschland
CATEGORIES:Führung
END:VEVENT
END:VCALENDAR