BEGIN:VCALENDAR
VERSION:2.0
PRODID:-//Apothekergarten Wiesbaden - ECPv6.15.20//NONSGML v1.0//EN
CALSCALE:GREGORIAN
METHOD:PUBLISH
X-ORIGINAL-URL:https://www.apothekergarten-wiesbaden.de
X-WR-CALDESC:Veranstaltungen für Apothekergarten Wiesbaden
REFRESH-INTERVAL;VALUE=DURATION:PT1H
X-Robots-Tag:noindex
X-PUBLISHED-TTL:PT1H
BEGIN:VTIMEZONE
TZID:Europe/Berlin
BEGIN:DAYLIGHT
TZOFFSETFROM:+0100
TZOFFSETTO:+0200
TZNAME:CEST
DTSTART:20220327T010000
END:DAYLIGHT
BEGIN:STANDARD
TZOFFSETFROM:+0200
TZOFFSETTO:+0100
TZNAME:CET
DTSTART:20221030T010000
END:STANDARD
BEGIN:DAYLIGHT
TZOFFSETFROM:+0100
TZOFFSETTO:+0200
TZNAME:CEST
DTSTART:20230326T010000
END:DAYLIGHT
BEGIN:STANDARD
TZOFFSETFROM:+0200
TZOFFSETTO:+0100
TZNAME:CET
DTSTART:20231029T010000
END:STANDARD
BEGIN:DAYLIGHT
TZOFFSETFROM:+0100
TZOFFSETTO:+0200
TZNAME:CEST
DTSTART:20240331T010000
END:DAYLIGHT
BEGIN:STANDARD
TZOFFSETFROM:+0200
TZOFFSETTO:+0100
TZNAME:CET
DTSTART:20241027T010000
END:STANDARD
END:VTIMEZONE
BEGIN:VEVENT
DTSTART;TZID=Europe/Berlin:20230805T150000
DTEND;TZID=Europe/Berlin:20230805T150000
DTSTAMP:20260424T145944
CREATED:20230509T134400Z
LAST-MODIFIED:20230509T134411Z
UID:793-1691247600-1691247600@www.apothekergarten-wiesbaden.de
SUMMARY:Führung „Der Färberwaid und das Blaue Ländchen“
DESCRIPTION:Der Apotheker Dr. Dörr führt durch den Apothekergarten mit dem Thema „Der Färberwaid und das Blaue Ländchen“. Treffpunkt oberer Eingang. Jeden Samstag verschiedene Themenführungen. Die Führungen sind ehrenamtlich und daher kostenlos\, können im Falle von Krankheit ersatzlos ausfallen.
URL:https://www.apothekergarten-wiesbaden.de/termin/der-faerberwaid-und-das-blaue-laendchen/
LOCATION:Apothekergarten Wiesbaden\, Aukammallee 39\, Wiesbaden\, 65191\, Deutschland
CATEGORIES:Führung
END:VEVENT
BEGIN:VEVENT
DTSTART;TZID=Europe/Berlin:20230812T150000
DTEND;TZID=Europe/Berlin:20230812T150000
DTSTAMP:20260424T145944
CREATED:20230509T134536Z
LAST-MODIFIED:20230509T134536Z
UID:796-1691852400-1691852400@www.apothekergarten-wiesbaden.de
SUMMARY:Führung „Sehen – Fühlen – Riechen - Schmecken“
DESCRIPTION:Die Gärtnerin und Heilpraktikerin Petra Schnöde führt durch den Apothekergarten mit dem Thema „Sehen – Fühlen – Riechen – Schmecken“. Treffpunkt oberer Eingang. Jeden Samstag verschiedene Themenführungen. Die Führungen sind ehrenamtlich und daher kostenlos\, können im Falle von Krankheit ersatzlos ausfallen.
URL:https://www.apothekergarten-wiesbaden.de/termin/sehen-fuehlen-riechen-schmecken-3/
LOCATION:Apothekergarten Wiesbaden\, Aukammallee 39\, Wiesbaden\, 65191\, Deutschland
CATEGORIES:Führung
END:VEVENT
BEGIN:VEVENT
DTSTART;TZID=Europe/Berlin:20230819T150000
DTEND;TZID=Europe/Berlin:20230819T150000
DTSTAMP:20260424T145944
CREATED:20230509T134639Z
LAST-MODIFIED:20230509T134639Z
UID:798-1692457200-1692457200@www.apothekergarten-wiesbaden.de
SUMMARY:Führung „Herstellung Pflanzlicher Arzneimittel“
DESCRIPTION:Die Apothekerin Hillert führt durch den Apothekergarten mit dem Thema „Herstellung Pflanzlicher Arzneimittel“. Treffpunkt oberer Eingang. Jeden Samstag verschiedene Themenführungen. Die Führungen sind ehrenamtlich und daher kostenlos\, können im Falle von Krankheit ersatzlos ausfallen.
URL:https://www.apothekergarten-wiesbaden.de/termin/herstellung-pflanzlicher-arzneimittel/
LOCATION:Apothekergarten Wiesbaden\, Aukammallee 39\, Wiesbaden\, 65191\, Deutschland
CATEGORIES:Führung
END:VEVENT
BEGIN:VEVENT
DTSTART;TZID=Europe/Berlin:20230826T150000
DTEND;TZID=Europe/Berlin:20230826T150000
DTSTAMP:20260424T145944
CREATED:20230509T134744Z
LAST-MODIFIED:20230509T134744Z
UID:800-1693062000-1693062000@www.apothekergarten-wiesbaden.de
SUMMARY:Führung „Goethe\, der Freund der Botanik und Pharmazie“
DESCRIPTION:Der Apotheker Dr. Binde führt durch den Apothekergarten mit dem Thema „Goethe\, der Freund der Botanik und Pharmazie“. Treffpunkt oberer Eingang. Jeden Samstag verschiedene Themenführungen. Die Führungen sind ehrenamtlich und daher kostenlos\, können im Falle von Krankheit ersatzlos ausfallen.
URL:https://www.apothekergarten-wiesbaden.de/termin/goethe-der-freund-der-botanik-und-pharmazie/
LOCATION:Apothekergarten Wiesbaden\, Aukammallee 39\, Wiesbaden\, 65191\, Deutschland
CATEGORIES:Führung
END:VEVENT
END:VCALENDAR