BEGIN:VCALENDAR
VERSION:2.0
PRODID:-//Apothekergarten Wiesbaden - ECPv6.15.20//NONSGML v1.0//EN
CALSCALE:GREGORIAN
METHOD:PUBLISH
X-ORIGINAL-URL:https://www.apothekergarten-wiesbaden.de
X-WR-CALDESC:Veranstaltungen für Apothekergarten Wiesbaden
REFRESH-INTERVAL;VALUE=DURATION:PT1H
X-Robots-Tag:noindex
X-PUBLISHED-TTL:PT1H
BEGIN:VTIMEZONE
TZID:Europe/Berlin
BEGIN:DAYLIGHT
TZOFFSETFROM:+0100
TZOFFSETTO:+0200
TZNAME:CEST
DTSTART:20220327T010000
END:DAYLIGHT
BEGIN:STANDARD
TZOFFSETFROM:+0200
TZOFFSETTO:+0100
TZNAME:CET
DTSTART:20221030T010000
END:STANDARD
BEGIN:DAYLIGHT
TZOFFSETFROM:+0100
TZOFFSETTO:+0200
TZNAME:CEST
DTSTART:20230326T010000
END:DAYLIGHT
BEGIN:STANDARD
TZOFFSETFROM:+0200
TZOFFSETTO:+0100
TZNAME:CET
DTSTART:20231029T010000
END:STANDARD
BEGIN:DAYLIGHT
TZOFFSETFROM:+0100
TZOFFSETTO:+0200
TZNAME:CEST
DTSTART:20240331T010000
END:DAYLIGHT
BEGIN:STANDARD
TZOFFSETFROM:+0200
TZOFFSETTO:+0100
TZNAME:CET
DTSTART:20241027T010000
END:STANDARD
END:VTIMEZONE
BEGIN:VEVENT
DTSTART;TZID=Europe/Berlin:20230701T150000
DTEND;TZID=Europe/Berlin:20230701T150000
DTSTAMP:20260424T165448
CREATED:20230509T133543Z
LAST-MODIFIED:20230509T133543Z
UID:783-1688223600-1688223600@www.apothekergarten-wiesbaden.de
SUMMARY:Führung „Der Faulbaum und der Zitronenfalter“
DESCRIPTION:Der Apotheker Dr. Dörr führt durch den Apothekergarten mit dem Thema „Der Faulbaum und der Zitronenfalter“. Treffpunkt oberer Eingang. Jeden Samstag verschiedene Themenführungen. Die Führungen sind ehrenamtlich und daher kostenlos\, können im Falle von Krankheit ersatzlos ausfallen.
URL:https://www.apothekergarten-wiesbaden.de/termin/der-faulbaum-und-der-zitronenfalter/
LOCATION:Apothekergarten Wiesbaden\, Aukammallee 39\, Wiesbaden\, 65191\, Deutschland
CATEGORIES:Führung
END:VEVENT
BEGIN:VEVENT
DTSTART;TZID=Europe/Berlin:20230708T150000
DTEND;TZID=Europe/Berlin:20230708T150000
DTSTAMP:20260424T165448
CREATED:20230509T133638Z
LAST-MODIFIED:20230509T133638Z
UID:785-1688828400-1688828400@www.apothekergarten-wiesbaden.de
SUMMARY:Führung „Qualitätssicherung bei pflanzlichen Arzneimitteln (Phytopharmaka)“
DESCRIPTION:Der Apotheker Dr. Herrmann führt durch den Apothekergarten mit dem Thema „Qualitätssicherung bei pflanzlichen Arzneimitteln (Phytopharmaka)“. Treffpunkt oberer Eingang. Jeden Samstag verschiedene Themenführungen. Die Führungen sind ehrenamtlich und daher kostenlos\, können im Falle von Krankheit ersatzlos ausfallen.
URL:https://www.apothekergarten-wiesbaden.de/termin/qualitaetssicherung-bei-pflanzlichen-arzneimitteln/
LOCATION:Apothekergarten Wiesbaden\, Aukammallee 39\, Wiesbaden\, 65191\, Deutschland
CATEGORIES:Führung
END:VEVENT
BEGIN:VEVENT
DTSTART;TZID=Europe/Berlin:20230715T150000
DTEND;TZID=Europe/Berlin:20230715T150000
DTSTAMP:20260424T165448
CREATED:20230509T133720Z
LAST-MODIFIED:20230509T133720Z
UID:787-1689433200-1689433200@www.apothekergarten-wiesbaden.de
SUMMARY:Führung „Pflanzliche Abführmittel – harmlos oder nicht?“
DESCRIPTION:Der Apotheker Dr. Herrmann führt durch den Apothekergarten mit dem Thema „Pflanzliche Abführmittel – harmlos oder nicht?“. Treffpunkt oberer Eingang. Jeden Samstag verschiedene Themenführungen. Die Führungen sind ehrenamtlich und daher kostenlos\, können im Falle von Krankheit ersatzlos ausfallen.
URL:https://www.apothekergarten-wiesbaden.de/termin/pflanzliche-abfuehrmittel-harmlos-oder-nicht/
LOCATION:Apothekergarten Wiesbaden\, Aukammallee 39\, Wiesbaden\, 65191\, Deutschland
CATEGORIES:Führung
END:VEVENT
BEGIN:VEVENT
DTSTART;TZID=Europe/Berlin:20230716T120000
DTEND;TZID=Europe/Berlin:20230716T170000
DTSTAMP:20260424T165448
CREATED:20171214T220349Z
LAST-MODIFIED:20230630T090841Z
UID:501-1689508800-1689526800@www.apothekergarten-wiesbaden.de
SUMMARY:Apothekergartenfest 2023: Reichhaltiges Programm mit Musik\, Kinderprogramm und Informationen
DESCRIPTION:Wir feiern am 16.07.2023 von 12 – 17 Uhr das diesjährige Apothekergarten-Fest. Es gibt Musik\, Kinderprogramm und für ihr leibliches Wohl ist auch gesorgt. \nNach der Eröffnung um 12 Uhr\, mit Begrüßung der Gäste\, erwartet Sie folgendes Programm: \n\nFührungen durch den Garten um 12:30\, 14:00 und 15:00 Uhr\nMusik mit der Band BeatBox Rheingau\nInfostand des Imkervereins Wiesbaden\nInfostand der Apotheker ohne Grenzen\nPräsentation einer Arzneipflanze durch Studenten der Pharmazie/Uni Mainz\nKünstlerin Fr. Laufer\, malt die Pflanze des Jahres\nKinderprogramm mit der Sternenwiese\n\nEs gibt herzhafte Speisen\, Getränke\, sowie Kaffee und Kuchen. \nGenießen Sie einen angenehmen Nachmittag\, gemeinsam mit uns\, Freunden und Bekannten im Apothekergarten. \n 
URL:https://www.apothekergarten-wiesbaden.de/termin/apothekergartenfest-2023/
LOCATION:Apothekergarten Wiesbaden\, Aukammallee 39\, Wiesbaden\, 65191\, Deutschland
CATEGORIES:Apothekergarten-Fest
ATTACH;FMTTYPE=image/jpeg:https://www.apothekergarten-wiesbaden.de/wp-content/uploads/2017/05/apothekergartenfest2016.jpg
END:VEVENT
BEGIN:VEVENT
DTSTART;TZID=Europe/Berlin:20230722T150000
DTEND;TZID=Europe/Berlin:20230722T150000
DTSTAMP:20260424T165448
CREATED:20230509T133756Z
LAST-MODIFIED:20230509T133756Z
UID:789-1690038000-1690038000@www.apothekergarten-wiesbaden.de
SUMMARY:Führung „Der Fingerhut: wie pflanzliche Giftstoffe zu Arzneimittel werden“
DESCRIPTION:Der Apotheker Dr. Herrmann führt durch den Apothekergarten mit dem Thema „Der Fingerhut: wie pflanzliche Giftstoffe zu Arzneimittel werden“. Treffpunkt oberer Eingang. Jeden Samstag verschiedene Themenführungen. Die Führungen sind ehrenamtlich und daher kostenlos\, können im Falle von Krankheit ersatzlos ausfallen.
URL:https://www.apothekergarten-wiesbaden.de/termin/der-fingerhut-wie-pflanzliche-giftstoffe-zu-arzneimittel-werden/
LOCATION:Apothekergarten Wiesbaden\, Aukammallee 39\, Wiesbaden\, 65191\, Deutschland
CATEGORIES:Führung
END:VEVENT
BEGIN:VEVENT
DTSTART;TZID=Europe/Berlin:20230729T150000
DTEND;TZID=Europe/Berlin:20230729T150000
DTSTAMP:20260424T165448
CREATED:20230509T133827Z
LAST-MODIFIED:20230509T133827Z
UID:791-1690642800-1690642800@www.apothekergarten-wiesbaden.de
SUMMARY:Führung „Arzneipflanzen: Rohstoffquelle\, pflanzlich\, industriell hergestellter Arzneimittel“
DESCRIPTION:Der Apotheker Dr. Herrmann führt durch den Apothekergarten mit dem Thema „Arzneipflanzen: Rohstoffquelle\, pflanzlich\, industriell hergestellter Arzneimittel“. Treffpunkt oberer Eingang. Jeden Samstag verschiedene Themenführungen. Die Führungen sind ehrenamtlich und daher kostenlos\, können im Falle von Krankheit ersatzlos ausfallen.
URL:https://www.apothekergarten-wiesbaden.de/termin/der-fingerhut-wie-pflanzliche-giftstoffe-zu-arzneimittel-werden-2/
LOCATION:Apothekergarten Wiesbaden\, Aukammallee 39\, Wiesbaden\, 65191\, Deutschland
CATEGORIES:Führung
END:VEVENT
END:VCALENDAR