BEGIN:VCALENDAR
VERSION:2.0
PRODID:-//Apothekergarten Wiesbaden - ECPv6.15.20//NONSGML v1.0//EN
CALSCALE:GREGORIAN
METHOD:PUBLISH
X-ORIGINAL-URL:https://www.apothekergarten-wiesbaden.de
X-WR-CALDESC:Veranstaltungen für Apothekergarten Wiesbaden
REFRESH-INTERVAL;VALUE=DURATION:PT1H
X-Robots-Tag:noindex
X-PUBLISHED-TTL:PT1H
BEGIN:VTIMEZONE
TZID:Europe/Berlin
BEGIN:DAYLIGHT
TZOFFSETFROM:+0100
TZOFFSETTO:+0200
TZNAME:CEST
DTSTART:20230326T010000
END:DAYLIGHT
BEGIN:STANDARD
TZOFFSETFROM:+0200
TZOFFSETTO:+0100
TZNAME:CET
DTSTART:20231029T010000
END:STANDARD
BEGIN:DAYLIGHT
TZOFFSETFROM:+0100
TZOFFSETTO:+0200
TZNAME:CEST
DTSTART:20240331T010000
END:DAYLIGHT
BEGIN:STANDARD
TZOFFSETFROM:+0200
TZOFFSETTO:+0100
TZNAME:CET
DTSTART:20241027T010000
END:STANDARD
BEGIN:DAYLIGHT
TZOFFSETFROM:+0100
TZOFFSETTO:+0200
TZNAME:CEST
DTSTART:20250330T010000
END:DAYLIGHT
BEGIN:STANDARD
TZOFFSETFROM:+0200
TZOFFSETTO:+0100
TZNAME:CET
DTSTART:20251026T010000
END:STANDARD
BEGIN:DAYLIGHT
TZOFFSETFROM:+0100
TZOFFSETTO:+0200
TZNAME:CEST
DTSTART:20260329T010000
END:DAYLIGHT
BEGIN:STANDARD
TZOFFSETFROM:+0200
TZOFFSETTO:+0100
TZNAME:CET
DTSTART:20261025T010000
END:STANDARD
END:VTIMEZONE
BEGIN:VEVENT
DTSTART;TZID=Europe/Berlin:20250921T110000
DTEND;TZID=Europe/Berlin:20250921T120000
DTSTAMP:20260420T124638
CREATED:20250407T213209Z
LAST-MODIFIED:20250407T213209Z
UID:945-1758452400-1758456000@www.apothekergarten-wiesbaden.de
SUMMARY:Sonntagsführung „Zauberpflanzen- Hexenkräuter Mythos und Magie heimischer Pflanzen (Teil II)“
DESCRIPTION:Die Apothekerin Neeb-Kippert führt durch den Apothekergarten mit dem Thema „Zauberpflanzen- Hexenkräuter Mythos und Magie heimischer Pflanzen (Teil II)“. Treffpunkt oberer Eingang. Auch jeden Samstag verschiedene Themenführungen. Die Führungen sind ehrenamtlich und daher kostenlos\, können im Falle von Krankheit ersatzlos ausfallen.
URL:https://www.apothekergarten-wiesbaden.de/termin/fuehrung-zauberpflanzen-hexenkraeuter-mythos-und-magie-heimischer-pflanzen-teil-2/
LOCATION:Apothekergarten Wiesbaden\, Aukammallee 39\, Wiesbaden\, 65191\, Deutschland
CATEGORIES:Führung
END:VEVENT
BEGIN:VEVENT
DTSTART;TZID=Europe/Berlin:20250916T183000
DTEND;TZID=Europe/Berlin:20250916T200000
DTSTAMP:20260420T124638
CREATED:20250820T141759Z
LAST-MODIFIED:20250820T141759Z
UID:1018-1758047400-1758052800@www.apothekergarten-wiesbaden.de
SUMMARY:Kräuter für die Seele. Meditativer Spaziergang
DESCRIPTION:Spirituelle Impulse durch bewusste Rückbesinnung auf die Kräfte der Natur. \nEin Angebot der Klima-AG in der Region Wiesbaden | Rheingau | Taunus. \nPastoralreferentin Anke Jarzina (Outdoorseelsorge) und Pastoralreferentin i.R. Marlene Wynands
URL:https://www.apothekergarten-wiesbaden.de/termin/fuehrung-aktuelles-zum-tage-2-3/
LOCATION:Apothekergarten Wiesbaden\, Aukammallee 39\, Wiesbaden\, 65191\, Deutschland
CATEGORIES:Führung
END:VEVENT
BEGIN:VEVENT
DTSTART;TZID=Europe/Berlin:20250830T150000
DTEND;TZID=Europe/Berlin:20250830T160000
DTSTAMP:20260420T124638
CREATED:20250820T142207Z
LAST-MODIFIED:20250825T002049Z
UID:1020-1756566000-1756569600@www.apothekergarten-wiesbaden.de
SUMMARY:Schlafstörungen und Unruhezustände – welches Kraut ist dagegen gewachsen
DESCRIPTION:Apotheker Dr. Hagels führt durch den Apothekergarten mit dem Thema „Schlafstörungen und Unruhezustände – welches Kraut ist dagegen gewachsen“.  Treffpunkt oberer Eingang. Jeden Samstag verschiedene Themenführungen. Die Führungen sind ehrenamtlich und daher kostenlos\, sie können im Falle von Krankheit ersatzlos ausfallen.
URL:https://www.apothekergarten-wiesbaden.de/termin/fuehrung-aktuelles-zum-tage-2-3-2/
LOCATION:Apothekergarten Wiesbaden\, Aukammallee 39\, Wiesbaden\, 65191\, Deutschland
CATEGORIES:Führung
END:VEVENT
BEGIN:VEVENT
DTSTART;TZID=Europe/Berlin:20250823T150000
DTEND;TZID=Europe/Berlin:20250823T160000
DTSTAMP:20260420T124638
CREATED:20250407T213012Z
LAST-MODIFIED:20250407T213012Z
UID:943-1755961200-1755964800@www.apothekergarten-wiesbaden.de
SUMMARY:Führung „Ginkgo\, die Heilkräfte des  Ginkgo“
DESCRIPTION:Der Apotheker Dr. Binde führt durch den Apothekergarten mit dem Thema „Ginkgo\, die Heilkräfte des  Ginkgo“. Treffpunkt oberer Eingang. Jeden Samstag verschiedene Themenführungen. Die Führungen sind ehrenamtlich und daher kostenlos\, können im Falle von Krankheit ersatzlos ausfallen.
URL:https://www.apothekergarten-wiesbaden.de/termin/fuehrung-ginkgo-die-heilkraefte-des-ginkgo/
LOCATION:Apothekergarten Wiesbaden\, Aukammallee 39\, Wiesbaden\, 65191\, Deutschland
CATEGORIES:Führung
END:VEVENT
BEGIN:VEVENT
DTSTART;TZID=Europe/Berlin:20250816T150000
DTEND;TZID=Europe/Berlin:20250816T160000
DTSTAMP:20260420T124638
CREATED:20250407T212924Z
LAST-MODIFIED:20250407T212924Z
UID:941-1755356400-1755360000@www.apothekergarten-wiesbaden.de
SUMMARY:Führung „Die Schafgarbe\, Arzneipflanze des Jahres 2025“
DESCRIPTION:Der Apotheker Dr. Binde führt durch den Apothekergarten mit dem Thema „Die Schafgarbe\, Arzneipflanze des Jahres 2025“. Treffpunkt oberer Eingang. Jeden Samstag verschiedene Themenführungen. Die Führungen sind ehrenamtlich und daher kostenlos\, können im Falle von Krankheit ersatzlos ausfallen.
URL:https://www.apothekergarten-wiesbaden.de/termin/fuehrung-die-schafgarbe-arzneipflanze-des-jahres-2025/
LOCATION:Apothekergarten Wiesbaden\, Aukammallee 39\, Wiesbaden\, 65191\, Deutschland
CATEGORIES:Führung
END:VEVENT
BEGIN:VEVENT
DTSTART;TZID=Europe/Berlin:20250810T110000
DTEND;TZID=Europe/Berlin:20250810T120000
DTSTAMP:20260420T124638
CREATED:20250407T214232Z
LAST-MODIFIED:20250407T214232Z
UID:948-1754823600-1754827200@www.apothekergarten-wiesbaden.de
SUMMARY:Sonntagsführung „Sekundäre Pflanzenstoffe und ihre Wirkung auf die Gesundheit“
DESCRIPTION:Die Apothekerin Neeb-Kippert führt durch den Apothekergarten mit dem Thema „Sekundäre Pflanzenstoffe und ihre Wirkung auf die Gesundheit“. Treffpunkt oberer Eingang. Jeden Samstag verschiedene Themenführungen. Die Führungen sind ehrenamtlich und daher kostenlos\, können im Falle von Krankheit ersatzlos ausfallen.
URL:https://www.apothekergarten-wiesbaden.de/termin/fuehrung-sekundaere-pflanzenstoffe-und-ihre-wirkung-auf-die-gesundheit-2/
LOCATION:Apothekergarten Wiesbaden\, Aukammallee 39\, Wiesbaden\, 65191\, Deutschland
CATEGORIES:Führung
END:VEVENT
BEGIN:VEVENT
DTSTART;TZID=Europe/Berlin:20250809T150000
DTEND;TZID=Europe/Berlin:20250809T160000
DTSTAMP:20260420T124638
CREATED:20250407T212720Z
LAST-MODIFIED:20250407T212720Z
UID:939-1754751600-1754755200@www.apothekergarten-wiesbaden.de
SUMMARY:Führung „Aktuelles zum Tage“
DESCRIPTION:Der Apotheker Dr. Rothenberger führt durch den Apothekergarten mit dem Thema „Aktuelles zum Tage“. Treffpunkt oberer Eingang. Jeden Samstag verschiedene Themenführungen. Die Führungen sind ehrenamtlich und daher kostenlos\, können im Falle von Krankheit ersatzlos ausfallen.
URL:https://www.apothekergarten-wiesbaden.de/termin/fuehrung-aktuelles-zum-tage-2-2/
LOCATION:Apothekergarten Wiesbaden\, Aukammallee 39\, Wiesbaden\, 65191\, Deutschland
CATEGORIES:Führung
END:VEVENT
BEGIN:VEVENT
DTSTART;TZID=Europe/Berlin:20250726T150000
DTEND;TZID=Europe/Berlin:20250726T160000
DTSTAMP:20260420T124638
CREATED:20250407T212041Z
LAST-MODIFIED:20250407T212041Z
UID:935-1753542000-1753545600@www.apothekergarten-wiesbaden.de
SUMMARY:Führung „Goethe\, der Freund der Botanik“
DESCRIPTION:Der Apotheker Dr. Binde führt durch den Apothekergarten mit dem Thema „Goethe\, der Freund der Botanik“. Treffpunkt oberer Eingang. Jeden Samstag verschiedene Themenführungen. Die Führungen sind ehrenamtlich und daher kostenlos\, können im Falle von Krankheit ersatzlos ausfallen.
URL:https://www.apothekergarten-wiesbaden.de/termin/fuehrung-goethe-der-freund-der-botanik/
LOCATION:Apothekergarten Wiesbaden\, Aukammallee 39\, Wiesbaden\, 65191\, Deutschland
CATEGORIES:Führung
END:VEVENT
BEGIN:VEVENT
DTSTART;TZID=Europe/Berlin:20250719T150000
DTEND;TZID=Europe/Berlin:20250719T160000
DTSTAMP:20260420T124638
CREATED:20250407T211952Z
LAST-MODIFIED:20250407T211952Z
UID:933-1752937200-1752940800@www.apothekergarten-wiesbaden.de
SUMMARY:Führung „Arzneipflanzen als Rohstofflieferanten für medikamentöse Therapie“
DESCRIPTION:Der Apotheker Dr. Herrmann führt durch den Apothekergarten mit dem Thema „Arzneipflanzen als Rohstofflieferanten für medikamentöse Therapie“. Treffpunkt oberer Eingang. Jeden Samstag verschiedene Themenführungen. Die Führungen sind ehrenamtlich und daher kostenlos\, können im Falle von Krankheit ersatzlos ausfallen.
URL:https://www.apothekergarten-wiesbaden.de/termin/fuehrung-arzneipflanzen-als-rohstofflieferanten-fuer-medikamentoese-therapie-3/
LOCATION:Apothekergarten Wiesbaden\, Aukammallee 39\, Wiesbaden\, 65191\, Deutschland
CATEGORIES:Führung
END:VEVENT
BEGIN:VEVENT
DTSTART;TZID=Europe/Berlin:20250713T110000
DTEND;TZID=Europe/Berlin:20250713T120000
DTSTAMP:20260420T124638
CREATED:20250407T211435Z
LAST-MODIFIED:20250407T214029Z
UID:931-1752404400-1752408000@www.apothekergarten-wiesbaden.de
SUMMARY:Sonntagsführung „Am Geruch sollt ihr sie erkennen“
DESCRIPTION:Die Apothekerin Neeb-Kippert führt durch den Apothekergarten mit dem Thema „Am Geruch sollt ihr sie erkennen“. Treffpunkt oberer Eingang. Jeden Samstag verschiedene Themenführungen. Die Führungen sind ehrenamtlich und daher kostenlos\, können im Falle von Krankheit ersatzlos ausfallen.
URL:https://www.apothekergarten-wiesbaden.de/termin/fuehrung-am-geruch-sollt-ihr-sie-erkennen/
LOCATION:Apothekergarten Wiesbaden\, Aukammallee 39\, Wiesbaden\, 65191\, Deutschland
CATEGORIES:Führung
END:VEVENT
BEGIN:VEVENT
DTSTART;TZID=Europe/Berlin:20250712T150000
DTEND;TZID=Europe/Berlin:20250712T160000
DTSTAMP:20260420T124638
CREATED:20250407T211333Z
LAST-MODIFIED:20250407T211333Z
UID:929-1752332400-1752336000@www.apothekergarten-wiesbaden.de
SUMMARY:Führung „Arzneipflanzen als Rohstofflieferanten für medikamentöse Therapie“
DESCRIPTION:Der Apotheker Dr. Herrmann führt durch den Apothekergarten mit dem Thema „Arzneipflanzen als Rohstofflieferanten für medikamentöse Therapie“. Treffpunkt oberer Eingang. Jeden Samstag verschiedene Themenführungen. Die Führungen sind ehrenamtlich und daher kostenlos\, können im Falle von Krankheit ersatzlos ausfallen.
URL:https://www.apothekergarten-wiesbaden.de/termin/fuehrung-arzneipflanzen-als-rohstofflieferanten-fuer-medikamentoese-therapie/
LOCATION:Apothekergarten Wiesbaden\, Aukammallee 39\, Wiesbaden\, 65191\, Deutschland
CATEGORIES:Führung
END:VEVENT
BEGIN:VEVENT
DTSTART;TZID=Europe/Berlin:20250705T150000
DTEND;TZID=Europe/Berlin:20250705T160000
DTSTAMP:20260420T124638
CREATED:20250407T211232Z
LAST-MODIFIED:20250407T211232Z
UID:927-1751727600-1751731200@www.apothekergarten-wiesbaden.de
SUMMARY:Führung „Wurzel\, Blatt \,Blüte\, Samen – was macht die Pflanze zur Arzneipflanze?“
DESCRIPTION:Der Apotheker Dr. Herrmann führt durch den Apothekergarten mit dem Thema „Wurzel\, Blatt \,Blüte\, Samen – was macht die Pflanze zur Arzneipflanze?“. Treffpunkt oberer Eingang. Jeden Samstag verschiedene Themenführungen. Die Führungen sind ehrenamtlich und daher kostenlos\, können im Falle von Krankheit ersatzlos ausfallen.
URL:https://www.apothekergarten-wiesbaden.de/termin/fuehrung-wurzel-blatt-bluete-samen-was-macht-die-pflanze-zur-arzneipflanze-2/
LOCATION:Apothekergarten Wiesbaden\, Aukammallee 39\, Wiesbaden\, 65191\, Deutschland
CATEGORIES:Führung
END:VEVENT
BEGIN:VEVENT
DTSTART;TZID=Europe/Berlin:20250628T150000
DTEND;TZID=Europe/Berlin:20250628T160000
DTSTAMP:20260420T124638
CREATED:20250407T211109Z
LAST-MODIFIED:20250407T211109Z
UID:925-1751122800-1751126400@www.apothekergarten-wiesbaden.de
SUMMARY:Führung „Wurzel\, Blatt \,Blüte\, Samen – was macht die Pflanze zur Arzneipflanze?“
DESCRIPTION:Der Apotheker Dr. Herrmann führt durch den Apothekergarten mit dem Thema „Wurzel\, Blatt \,Blüte\, Samen – was macht die Pflanze zur Arzneipflanze?“. Treffpunkt oberer Eingang. Jeden Samstag verschiedene Themenführungen. Die Führungen sind ehrenamtlich und daher kostenlos\, können im Falle von Krankheit ersatzlos ausfallen.
URL:https://www.apothekergarten-wiesbaden.de/termin/fuehrung-wurzel-blatt-bluete-samen-was-macht-die-pflanze-zur-arzneipflanze/
LOCATION:Apothekergarten Wiesbaden\, Aukammallee 39\, Wiesbaden\, 65191\, Deutschland
CATEGORIES:Führung
END:VEVENT
BEGIN:VEVENT
DTSTART;TZID=Europe/Berlin:20250615T110000
DTEND;TZID=Europe/Berlin:20250615T120000
DTSTAMP:20260420T124638
CREATED:20250407T210825Z
LAST-MODIFIED:20250407T211141Z
UID:922-1749985200-1749988800@www.apothekergarten-wiesbaden.de
SUMMARY:Sonntagsführung „Die Geschichte der Blumen\, wie sie unsere Lebensweise verändern“
DESCRIPTION:Die Apothekerin Neeb-Kippert führt durch den Apothekergarten mit dem Thema „Die Geschichte der Blumen\, wie sie unsere Lebensweise verändern“. Treffpunkt oberer Eingang. Jeden Samstag verschiedene Themenführungen. Die Führungen sind ehrenamtlich und daher kostenlos\, können im Falle von Krankheit ersatzlos ausfallen.
URL:https://www.apothekergarten-wiesbaden.de/termin/fuehrung-die-geschichte-der-blumen-wie-sie-unsere-lebensweise-veraendern/
LOCATION:Apothekergarten Wiesbaden\, Aukammallee 39\, Wiesbaden\, 65191\, Deutschland
CATEGORIES:Führung
END:VEVENT
BEGIN:VEVENT
DTSTART;TZID=Europe/Berlin:20250614T150000
DTEND;TZID=Europe/Berlin:20250614T160000
DTSTAMP:20260420T124638
CREATED:20250407T210641Z
LAST-MODIFIED:20250407T210855Z
UID:920-1749913200-1749916800@www.apothekergarten-wiesbaden.de
SUMMARY:Führung „Bitterstoffe\, Kraftpakete für die Gesundheit“
DESCRIPTION:Die Apothekerin Hillert führt durch den Apothekergarten mit dem Thema „Bitterstoffe\, Kraftpakete für die Gesundheit“. Treffpunkt oberer Eingang. Jeden Samstag verschiedene Themenführungen. Die Führungen sind ehrenamtlich und daher kostenlos\, können im Falle von Krankheit ersatzlos ausfallen.
URL:https://www.apothekergarten-wiesbaden.de/termin/fuehrung-bitterstoffe-kraftpakete-fuer-die-gesundheit/
LOCATION:Apothekergarten Wiesbaden\, Aukammallee 39\, Wiesbaden\, 65191\, Deutschland
CATEGORIES:Führung
END:VEVENT
BEGIN:VEVENT
DTSTART;TZID=Europe/Berlin:20250607T150000
DTEND;TZID=Europe/Berlin:20250607T160000
DTSTAMP:20260420T124638
CREATED:20250407T210346Z
LAST-MODIFIED:20250407T210346Z
UID:918-1749308400-1749312000@www.apothekergarten-wiesbaden.de
SUMMARY:Führung „Frühling im Apothekergarten“
DESCRIPTION:Der Apotheker Dr. Binde führt durch den Apothekergarten mit dem Thema „Frühling im Apothekergarten“. Treffpunkt oberer Eingang. Jeden Samstag verschiedene Themenführungen. Die Führungen sind ehrenamtlich und daher kostenlos\, können im Falle von Krankheit ersatzlos ausfallen.
URL:https://www.apothekergarten-wiesbaden.de/termin/fuehrung-fruehling-im-apothekergarten/
LOCATION:Apothekergarten Wiesbaden\, Aukammallee 39\, Wiesbaden\, 65191\, Deutschland
CATEGORIES:Führung
END:VEVENT
BEGIN:VEVENT
DTSTART;TZID=Europe/Berlin:20250531T150000
DTEND;TZID=Europe/Berlin:20250531T160000
DTSTAMP:20260420T124638
CREATED:20250407T210127Z
LAST-MODIFIED:20250407T210430Z
UID:911-1748703600-1748707200@www.apothekergarten-wiesbaden.de
SUMMARY:Führung „Aktuelles zum Tage“
DESCRIPTION:Der Apotheker Dr. Rothenberger führt durch den Apothekergarten mit dem Thema „Aktuelles zum Tage“. Treffpunkt oberer Eingang. Jeden Samstag verschiedene Themenführungen. Die Führungen sind ehrenamtlich und daher kostenlos\, können im Falle von Krankheit ersatzlos ausfallen.
URL:https://www.apothekergarten-wiesbaden.de/termin/fuehrung-aktuelles-zum-tage-2/
LOCATION:Apothekergarten Wiesbaden\, Aukammallee 39\, Wiesbaden\, 65191\, Deutschland
CATEGORIES:Führung
END:VEVENT
BEGIN:VEVENT
DTSTART;TZID=Europe/Berlin:20250529T143000
DTEND;TZID=Europe/Berlin:20250529T153000
DTSTAMP:20260420T124638
CREATED:20250407T205759Z
LAST-MODIFIED:20250407T205817Z
UID:915-1748529000-1748532600@www.apothekergarten-wiesbaden.de
SUMMARY:Sonderführung „Biologische Vielfalt im Apothekergarten“
DESCRIPTION:Der Apotheker Dr. Dörr führt durch den Apothekergarten mit dem Thema „Biologische Vielfalt im Apothekergarten“. Treffpunkt oberer Eingang. Auch jeden Samstag verschiedene Themenführungen. Die Führungen sind ehrenamtlich und daher kostenlos\, können im Falle von Krankheit ersatzlos ausfallen.
URL:https://www.apothekergarten-wiesbaden.de/termin/fuehrung-biologische-vielfalt-im-apothekergarten/
LOCATION:Apothekergarten Wiesbaden\, Aukammallee 39\, Wiesbaden\, 65191\, Deutschland
CATEGORIES:Führung
END:VEVENT
BEGIN:VEVENT
DTSTART;TZID=Europe/Berlin:20250525T110000
DTEND;TZID=Europe/Berlin:20250525T120000
DTSTAMP:20260420T124638
CREATED:20250407T205417Z
LAST-MODIFIED:20250407T205449Z
UID:913-1748170800-1748174400@www.apothekergarten-wiesbaden.de
SUMMARY:Sonntagsführung „Zauberpflanzen- Hexenkräuter Mythos und Magie heimischer Pflanzen“
DESCRIPTION:Die Apothekerin Neeb-Kippert führt durch den Apothekergarten mit dem Thema „Zauberpflanzen- Hexenkräuter Mythos und Magie heimischer Pflanzen“. Treffpunkt oberer Eingang. Auch jeden Samstag verschiedene Themenführungen. Die Führungen sind ehrenamtlich und daher kostenlos\, können im Falle von Krankheit ersatzlos ausfallen.
URL:https://www.apothekergarten-wiesbaden.de/termin/fuehrung-zauberpflanzen-hexenkraeuter-mythos-und-magie-heimischer-pflanzen/
LOCATION:Apothekergarten Wiesbaden\, Aukammallee 39\, Wiesbaden\, 65191\, Deutschland
CATEGORIES:Führung
END:VEVENT
BEGIN:VEVENT
DTSTART;TZID=Europe/Berlin:20240928T150000
DTEND;TZID=Europe/Berlin:20240928T150000
DTSTAMP:20260420T124638
CREATED:20240411T093745Z
LAST-MODIFIED:20240411T093814Z
UID:862-1727535600-1727535600@www.apothekergarten-wiesbaden.de
SUMMARY:Führung „Blasenentzündung\, natürlich vorbeugen und behandeln“
DESCRIPTION:Die Apothekerin Neeb-Kippert führt durch den Apothekergarten mit dem Thema „Blasenentzündung\, natürlich vorbeugen und behandeln“. Treffpunkt oberer Eingang. Jeden Samstag verschiedene Themenführungen. Die Führungen sind ehrenamtlich und daher kostenlos\, können im Falle von Krankheit ersatzlos ausfallen.
URL:https://www.apothekergarten-wiesbaden.de/termin/fuehrung-blasenentzuendung-natuerlich-vorbeugen-und-behandeln/
LOCATION:Apothekergarten Wiesbaden\, Aukammallee 39\, Wiesbaden\, 65191\, Deutschland
CATEGORIES:Führung
END:VEVENT
BEGIN:VEVENT
DTSTART;TZID=Europe/Berlin:20240914T150000
DTEND;TZID=Europe/Berlin:20240914T150000
DTSTAMP:20260420T124638
CREATED:20240411T093710Z
LAST-MODIFIED:20240411T093710Z
UID:860-1726326000-1726326000@www.apothekergarten-wiesbaden.de
SUMMARY:Führung „Von wegen\, dagegen ist kein Kraut gewachsen“
DESCRIPTION:Die Apothekerin Neeb-Kippert führt durch den Apothekergarten mit dem Thema „Von wegen\, dagegen ist kein Kraut gewachsen“. Treffpunkt oberer Eingang. Jeden Samstag verschiedene Themenführungen. Die Führungen sind ehrenamtlich und daher kostenlos\, können im Falle von Krankheit ersatzlos ausfallen.
URL:https://www.apothekergarten-wiesbaden.de/termin/fuehrung-von-wegen-dagegen-ist-kein-kraut-gewachsen-4/
LOCATION:Apothekergarten Wiesbaden\, Aukammallee 39\, Wiesbaden\, 65191\, Deutschland
CATEGORIES:Führung
END:VEVENT
BEGIN:VEVENT
DTSTART;TZID=Europe/Berlin:20240907T150000
DTEND;TZID=Europe/Berlin:20240907T150000
DTSTAMP:20260420T124638
CREATED:20240411T093637Z
LAST-MODIFIED:20240411T093637Z
UID:858-1725721200-1725721200@www.apothekergarten-wiesbaden.de
SUMMARY:Führung „Aktuelles aus dem Apothekergarten“
DESCRIPTION:Der Apotheker Dr. Rothenberger führt durch den Apothekergarten mit dem Thema „Aktuelles aus dem Apothekergarten“. Treffpunkt oberer Eingang. Jeden Samstag verschiedene Themenführungen. Die Führungen sind ehrenamtlich und daher kostenlos\, können im Falle von Krankheit ersatzlos ausfallen.
URL:https://www.apothekergarten-wiesbaden.de/termin/aktuelles-aus-dem-apothekergarten-2-2-2-2/
LOCATION:Apothekergarten Wiesbaden\, Aukammallee 39\, Wiesbaden\, 65191\, Deutschland
CATEGORIES:Führung
END:VEVENT
BEGIN:VEVENT
DTSTART;TZID=Europe/Berlin:20240901T110000
DTEND;TZID=Europe/Berlin:20240901T120000
DTSTAMP:20260420T124638
CREATED:20240411T093529Z
LAST-MODIFIED:20240422T130500Z
UID:856-1725188400-1725192000@www.apothekergarten-wiesbaden.de
SUMMARY:Sonntagsführung „Die Bedeutung der primären und sekundären Pflanzenstoffe“
DESCRIPTION:Die Apothekerin Neeb-Kippert führt durch den Apothekergarten mit dem Thema „Die Bedeutung der primären und sekundären Pflanzenstoffe“. Treffpunkt oberer Eingang. Auch jeden Samstag verschiedene Themenführungen. Die Führungen sind ehrenamtlich und daher kostenlos\, können im Falle von Krankheit ersatzlos ausfallen.
URL:https://www.apothekergarten-wiesbaden.de/termin/fuehrung-die-bedeutung-der-primaeren-und-sekundaeren-pflanzenstoffe/
LOCATION:Apothekergarten Wiesbaden\, Aukammallee 39\, Wiesbaden\, 65191\, Deutschland
CATEGORIES:Führung
END:VEVENT
BEGIN:VEVENT
DTSTART;TZID=Europe/Berlin:20240824T150000
DTEND;TZID=Europe/Berlin:20240824T150000
DTSTAMP:20260420T124638
CREATED:20240411T093410Z
LAST-MODIFIED:20240411T093430Z
UID:854-1724511600-1724511600@www.apothekergarten-wiesbaden.de
SUMMARY:Führung „Qualitätssicherung pflanzlicher Arzneimittel“
DESCRIPTION:Der Apotheker Dr. Herrmann führt durch den Apothekergarten mit dem Thema „Qualitätssicherung pflanzlicher Arzneimittel“. Treffpunkt oberer Eingang. Jeden Samstag verschiedene Themenführungen. Die Führungen sind ehrenamtlich und daher kostenlos\, können im Falle von Krankheit ersatzlos ausfallen.
URL:https://www.apothekergarten-wiesbaden.de/termin/fuehrung-qualitaetssicherung-pflanzlicher-arzneimittel-2/
LOCATION:Apothekergarten Wiesbaden\, Aukammallee 39\, Wiesbaden\, 65191\, Deutschland
CATEGORIES:Führung
END:VEVENT
BEGIN:VEVENT
DTSTART;TZID=Europe/Berlin:20240817T150000
DTEND;TZID=Europe/Berlin:20240817T150000
DTSTAMP:20260420T124638
CREATED:20240411T093335Z
LAST-MODIFIED:20240411T093335Z
UID:852-1723906800-1723906800@www.apothekergarten-wiesbaden.de
SUMMARY:Führung „Sind pflanzliche Arzneimittel\, Phytopharmaka\, kurz Phytos\, immer harmlos?“
DESCRIPTION:Der Apotheker Dr. Herrmann führt durch den Apothekergarten mit dem Thema „Sind pflanzliche Arzneimittel\, Phytopharmaka\, kurz Phytos\, immer harmlos?“. Treffpunkt oberer Eingang. Jeden Samstag verschiedene Themenführungen. Die Führungen sind ehrenamtlich und daher kostenlos\, können im Falle von Krankheit ersatzlos ausfallen.
URL:https://www.apothekergarten-wiesbaden.de/termin/sind-pflanzliche-arzneimittel-phytopharmaka-kurz-phytos-immer-harmlos/
LOCATION:Apothekergarten Wiesbaden\, Aukammallee 39\, Wiesbaden\, 65191\, Deutschland
CATEGORIES:Führung
END:VEVENT
BEGIN:VEVENT
DTSTART;TZID=Europe/Berlin:20240810T150000
DTEND;TZID=Europe/Berlin:20240810T150000
DTSTAMP:20260420T124638
CREATED:20240411T093051Z
LAST-MODIFIED:20240411T093051Z
UID:846-1723302000-1723302000@www.apothekergarten-wiesbaden.de
SUMMARY:Führung „Goethe der Freund der Botanik“
DESCRIPTION:Der Apotheker Dr. Binde führt durch den Apothekergarten mit dem Thema „Goethe der Freund der Botanik“. Treffpunkt oberer Eingang. Jeden Samstag verschiedene Themenführungen. Die Führungen sind ehrenamtlich und daher kostenlos\, können im Falle von Krankheit ersatzlos ausfallen.
URL:https://www.apothekergarten-wiesbaden.de/termin/fuehrung-vom-gift-zum-arzneimittel-2/
LOCATION:Apothekergarten Wiesbaden\, Aukammallee 39\, Wiesbaden\, 65191\, Deutschland
CATEGORIES:Führung
END:VEVENT
BEGIN:VEVENT
DTSTART;TZID=Europe/Berlin:20240803T150000
DTEND;TZID=Europe/Berlin:20240803T150000
DTSTAMP:20260420T124638
CREATED:20240411T093005Z
LAST-MODIFIED:20240411T093013Z
UID:849-1722697200-1722697200@www.apothekergarten-wiesbaden.de
SUMMARY:Führung „Arzneipflanzen und ihre Wirkstoffe“
DESCRIPTION:Die Apothekerin Hillert führt durch den Apothekergarten mit dem Thema „Arzneipflanzen und ihre Wirkstoffe“. Treffpunkt oberer Eingang. Jeden Samstag verschiedene Themenführungen. Die Führungen sind ehrenamtlich und daher kostenlos\, können im Falle von Krankheit ersatzlos ausfallen.
URL:https://www.apothekergarten-wiesbaden.de/termin/fuehrung-arzneipflanzen-und-ihre-wirkstoffe/
LOCATION:Apothekergarten Wiesbaden\, Aukammallee 39\, Wiesbaden\, 65191\, Deutschland
CATEGORIES:Führung
END:VEVENT
BEGIN:VEVENT
DTSTART;TZID=Europe/Berlin:20240728T110000
DTEND;TZID=Europe/Berlin:20240728T120000
DTSTAMP:20260420T124638
CREATED:20240411T092850Z
LAST-MODIFIED:20240422T130452Z
UID:847-1722164400-1722168000@www.apothekergarten-wiesbaden.de
SUMMARY:Sonntagsführung „Rein pflanzlich heißt nicht immer harmlos“
DESCRIPTION:Die Apothekerin Neeb-Kippert führt durch den Apothekergarten mit dem Thema „Rein pflanzlich heißt nicht immer harmlos“. Treffpunkt oberer Eingang. Auch jeden Samstag verschiedene Themenführungen. Die Führungen sind ehrenamtlich und daher kostenlos\, können im Falle von Krankheit ersatzlos ausfallen.
URL:https://www.apothekergarten-wiesbaden.de/termin/fuehrung-rein-pflanzlich-heisst-nicht-immer-harmlos/
LOCATION:Apothekergarten Wiesbaden\, Aukammallee 39\, Wiesbaden\, 65191\, Deutschland
CATEGORIES:Führung
END:VEVENT
BEGIN:VEVENT
DTSTART;TZID=Europe/Berlin:20240727T150000
DTEND;TZID=Europe/Berlin:20240727T150000
DTSTAMP:20260420T124638
CREATED:20240411T092728Z
LAST-MODIFIED:20240411T092728Z
UID:844-1722092400-1722092400@www.apothekergarten-wiesbaden.de
SUMMARY:Führung „Führung mit etwas Naturschutz“
DESCRIPTION:Der Apotheker Dr. Dörr führt durch den Apothekergarten mit dem Thema „Führung mit etwas Naturschutz“. Treffpunkt oberer Eingang. Jeden Samstag verschiedene Themenführungen. Die Führungen sind ehrenamtlich und daher kostenlos\, können im Falle von Krankheit ersatzlos ausfallen.
URL:https://www.apothekergarten-wiesbaden.de/termin/fuehrung-arzneipflanzen-vorbilder-fuer-die-entwicklung-neuer-arzneistoffe-2-2/
LOCATION:Apothekergarten Wiesbaden\, Aukammallee 39\, Wiesbaden\, 65191\, Deutschland
CATEGORIES:Führung
END:VEVENT
BEGIN:VEVENT
DTSTART;TZID=Europe/Berlin:20240720T150000
DTEND;TZID=Europe/Berlin:20240720T150000
DTSTAMP:20260420T124638
CREATED:20240411T092650Z
LAST-MODIFIED:20240411T092650Z
UID:842-1721487600-1721487600@www.apothekergarten-wiesbaden.de
SUMMARY:Führung „Arzneipflanzen Vorbilder für die Entwicklung neuer Arzneistoffe“
DESCRIPTION:Der Apotheker Dr. Herrmann führt durch den Apothekergarten mit dem Thema „Arzneipflanzen Vorbilder für die Entwicklung neuer Arzneistoffe“. Treffpunkt oberer Eingang. Jeden Samstag verschiedene Themenführungen. Die Führungen sind ehrenamtlich und daher kostenlos\, können im Falle von Krankheit ersatzlos ausfallen.
URL:https://www.apothekergarten-wiesbaden.de/termin/fuehrung-arzneipflanzen-vorbilder-fuer-die-entwicklung-neuer-arzneistoffe-2/
LOCATION:Apothekergarten Wiesbaden\, Aukammallee 39\, Wiesbaden\, 65191\, Deutschland
CATEGORIES:Führung
END:VEVENT
END:VCALENDAR